Workbook

Sheet Formulaire
O2: QUEBEC CITY CONVENTION CENTRE
O4: ORDER FORM
O5: AUDIOVISUAL / INTERNET
C8: COMPANY: | V8: EVENT NAME:
C9: ORDERED BY: | V9: ROOM/BOOTH:
C10: STREET: | V10: INSTALLATION DATE*: | AI10: HOUR:
C11: STREET: | V11: EXHIBIT START DATE*: | AI11: HOUR:
C12: CITY: | M12: POSTAL CODE: | V12: EXHIBIT END DATE*: | AI12: HOUR:
C13: PROV./STATE: | AB13: * DATE FORMAT: 2025-06-21
C14: PHONE: | L14: MOBILE: | V14: CONTACT ON SITE:
C15: EMAIL: | V15: CONTACT ON SITE CELL PHONE:
B17: AUDIOVISUAL
C19: QUANTITY | G19: AVAILABLE EQUIPMENTS | AB19: DAILY RATE | AG19: NUMBER OF DAYS | AL19: TOTAL
C20: DISPLAY AND FLAT SCREEN MONITORS (floor stand / shelf not included)
G21: 22" LCD FLAT SCREEN MONITOR | AB21: 158.75 | AG21: x | AH21: =Formule!$D$6 -> 1 | AK21: = | AL21: =+IF(C21="","",+C21*AB21*AH21)
G22: 24" LCD FLAT SCREEN MONITOR | AB22: 158.75 | AG22: x | AH22: =Formule!$D$6 -> 1 | AK22: = | AL22: =+IF(C22="","",+C22*AB22*AH22)
G23: 32" LCD FLAT SCREEN MONITOR | AB23: 261.5 | AG23: x | AH23: =Formule!$D$6 -> 1 | AK23: = | AL23: =+IF(C23="","",+C23*AB23*AH23)
G24: 43" LED FLAT SCREEN MONITOR* (USB capability) | AB24: 457 | AG24: x | AH24: =Formule!$D$6 -> 1 | AK24: = | AL24: =+IF(C24="","",+C24*AB24*AH24)
G25: 52" LCD FLAT SCREEN MONITOR* (USB capability) | AB25: 588.75 | AG25: x | AH25: =Formule!$D$6 -> 1 | AK25: = | AL25: =+IF(C25="","",+C25*AB25*AH25)
G26: 55" LCD FLAT SCREEN MONITOR (USB capability) | AB26: 691.5 | AG26: x | AH26: =Formule!$D$6 -> 1 | AK26: = | AL26: =+IF(C26="","",+C26*AB26*AH26)
G27: 55" LCD FLAT SCREEN MONITOR - TOUCHSCREEN (USB capability) | AB27: 914.75 | AG27: x | AH27: =Formule!$D$6 -> 1 | AK27: = | AL27: =+IF(C27="","",+C27*AB27*AH27)
G28: 60" LCD FLAT SCREEN MONITOR (USB capability) | AB28: 784.25 | AG28: x | AH28: =Formule!$D$6 -> 1 | AK28: = | AL28: =+IF(C28="","",+C28*AB28*AH28)
G29: 65" LED FLAT SCREEN MONITOR (USB capability) | AB29: 850.25 | AG29: x | AH29: =Formule!$D$6 -> 1 | AK29: = | AL29: =+IF(C29="","",+C29*AB29*AH29)
G30: 70" LCD FLAT SCREEN MONITOR (USB capability) | AB30: 914.75 | AG30: x | AH30: =Formule!$D$6 -> 1 | AK30: = | AL30: =+IF(C30="","",+C30*AB30*AH30)
G31: 86" LED FLAT SCREEN MONITOR (USB capability) | AB31: 1142.25 | AG31: x | AH31: =Formule!$D$6 -> 1 | AK31: = | AL31: =+IF(C31="","",+C31*AB31*AH31)
G32: LED DISPLAY ROLL UP (2.5mm) 24'Wx77'H | AB32: 850.25 | AG32: x | AH32: =Formule!$D$6 -> 1 | AK32: = | AL32: =+IF(C32="","",+C32*AB32*AH32)
... G34: FLAT MONITOR FLOOR STAND SHELF 1 | AB34: 18.5 | AG34: x | AH34: =Formule!$D$6 -> 1 | AK34: = | AL34: =+IF(C34="","",+C34*AB34*AH34)
C35: COMPUTER AND ACCESSORIES
G36: LAPTOP | AB36: 282.5 | AG36: x | AH36: =Formule!$D$6 -> 1 | AK36: = | AL36: =+IF(C36="","",+C36*AB36*AH36)
G37: ADAPTOR CABLE | AB37: 26 | AG37: x | AH37: 1 | AK37: = | AL37: =+IF(C37="","",+C37*AB37*AH37)
G38: HDMI CABLE | AB38: 26 | AG38: x | AH38: 1 | AK38: = | AL38: =+IF(C38="","",+C38*AB38*AH38)
G39: DVI CABLE | AB39: 26 | AG39: x | AH39: 1 | AK39: = | AL39: =+IF(C39="","",+C39*AB39*AH39)
C41: 1. Rented with monitor only
B43: INTERNET
C45: QUANTITY | G45: SERVICES AVAILABLE | AH45: RATE | AL45: TOTAL
C46: WIRED DAILY INTERNET
G47: WIRED DAILY PREMIUM* | AH47: 350 | AL47: =+IF(C47="","",+C47*AH47)
G48: ADDITIONAL WIRED DAILY PREMIUM* | AH48: 175 | AL48: =+IF(C48="","",+C48*AH48)
G49: WIRED DAILY ULTRA* | AH49: 460 | AL49: =+IF(C49="","",+C49*AH49)
G50: ADDITIONAL WIRED DAILY ULTRA* | AH50: 175 | AL50: =+IF(C50="","",+C50*AH50)
C51: WIRED EVENT INTERNET
G52: WIRED EVENT PREMIUM* | AH52: 620 | AL52: =+IF(C52="","",+C52*AH52)
G53: ADDITIONAL WIRED EVENT PREMIUM* | AH53: 175 | AL53: =+IF(C53="","",+C53*AH53)
G54: WIRED EVENT ULTRA* | AH54: 840 | AL54: =+IF(C54="","",+C54*AH54)
G55: ADDITIONAL WIRED EVENT ULTRA* | AH55: 175 | AL55: =+IF(C55="","",+C55*AH55)
C56: OTHER EQUIPMENT/SERVICES | AE56: DAY(S)
G57: Network Switch 10/100 (please specify if you require 1gbps, additonnal fees may apply) | AE57: =Formule!$D$6 -> 1 | AH57: 73.5 | AL57: =+IF(C57="","",+C57*AE57*AH57)
G58: Public Static IP Request - per IP Address | AH58: 220 | AL58: =+IF(C58="","",+C58*AH58)
G59: POS terminal Activation - per IP Address/Device | AH59: 220 | AL59: =+IF(C59="","",+C59*AH59)
G60: VLAN progamming (per port) | AH60: 275 | AL60: =+IF(C60="","",+C60*AH60)
C61: LABOR (SETUP,DISMANTLING, PROGRAMMATION)
C62: Hourly Rate (min. 4 hours may apply) | AH62: 135
C63: Daily Rate (max. 10 hours) | AH63: 1350
C64: Encore does not allow the use of any WI-FI broadcasting device such as: wireless routers, wireless access points or DHCP servers. These devices require our exclusive permission to broadcast. Please contact us.
C67: *For service package associated speed, please refer to page 2
B69: BILLING
C71: TOTAL INTERNET SERVICES | V71: TOTAL AUDIOVISUAL SERVICES
D74: EQUIPMENT: | M74: =SUM(AL57) -> 0 | W74: EQUIPMENT: | AF74: =SUM(AL21:AO34,AL36:AO39,AL47:AO50,AL52:AO55,AL57:AO60) -> 0
D75: SERVICE: | M75: =SUM(AL47:AO50,AL52:AO55) -> 0 | W75: DELIVERY: | AF75: =0 -> 0
D76: LABOUR: | M76: =SUM(AL58:AO60) -> 0 | W76: LABOUR - SETUP/DISMANTLE: | AF76: =((SUM(C23:F32))*2*99.25)+((SUM(C21:F22,C36:F39)*1*99.25)) -> 0
D77: CABLES/CONSUMABLES: | M77: =M74*0.07 -> 0 | W77: ELECTRICITY: | AF77: =0 -> 0
D78: SUB-TOTAL: | M78: =SUM(M74:S77) -> 0 | W78: CABLES/CONSUMABLES: | AF78: =AF74*0.098 -> 0
D79: PST 9,975%: | M79: =M78*(9.975/100) -> 0 | W79: SUB-TOTAL: | AF79: =SUM(AF74:AM78) -> 0
D80: GST 5%: | M80: =M78*(5/100) -> 0 | W80: PST 9,975%: | AF80: =AF79*(9.975/100) -> 0
D81: TOTAL: | M81: =SUM(M78:S80) -> 0 | W81: GST 5%: | AF81: =AF79*(5/100) -> 0
W82: TOTAL: | AF82: =SUM(AF79:AM81) -> 0
D84: CREDIT CARD PAYMENT | Z84: TOTAL AUDIOVISUAL / INTERNET SERVICES
Z85: =SUM(AF82,M81) -> 0
D86: Please contact us : | I86: 1 437-361-5917
C92: Please send your completed order form to the following email address: | X92: Exhibitors-QCCC-ca@encoreglobal.com
B96: INSTRUCTION FOR USE
B98: 1 | D98: It couldn't be simpler! Just complete the form on-line, save to your desktop, & e-mail to the e-mail address above.
B101: TERMS & CONDITIONS
B103: 1 | D103: Please forward payment in full with your order.
D104: INSTRUCTION FOR SUMITTING YOUR CREDIT CARD NUMBER
D105: * For your security, please complete all information relating to your credit card except for the Credit Card Number.
D106: * Email the completed form and provide the Credit Card Number in two separate transmissions so that one Email does not contain the full Credit Card number
D107: * Another option is to contact us to give the Credit Card number by phone, or use facsimile transmission if such medium is available to you.
B109: 2 | D109: Orders received les than 7 days prior to setup date may be subject to additional charges.
B111: 3 | D111: Written order cancellation must be received at least 5 business days prior to setup date to avoid a 1 day charge.
B114: 4 | D114: Your authorized representative must be at your booth at specified date & time to accept delivery of equipment.
D115: Please note: we cannot leave equipment in your booth without your representative there to receive it.
B117: 5 | D117: The equipment is your responsibility until picked up by Encore representative.
D118: Please do not leave equipment unattended in your booth when the show finishes
B120: 6 | D120: Any extension of the rental period must be arranged prior to termination of the original rental period.
B122: 7 | D122: Customer is liable for full replacement value or rented equipment & is responsible for insuring said equipment.
B124: 8 | D124: Customer agrees to be bound by all applicable license & copyright laws for software on rented equipment.
B127: 9 | D127: Encore is not responsible for any equipment performance problem caused by custormer's software.
B130: INTERNET TERMS & CONDITIONS
C132: Any equipment that is found to be causing disruptions to any part of the Encore infrastructure will be removed and not reinstated until the problem has been rectified to the satisfaction of Encore. Encore does not provide technical support for computer hardware or software related issues. Encore dos not provide technical support on any issues related to the configuration of your computer equipment. All devices that are used on the Encore network for Internet Access shall acquire a Dynamically Assigned IP Address that is automatically assigned by the Encore server. Encore does not allow the use of any WI-FI broadcasting of such devices will result in the immediate termination of services ordered without refund.
B143: Internet Speed Package Information
D147: PREMIUM: | X147: ULTRA:
D149: Recommended for: | X149: Recommended for:
D150: Standard Definition webcasting | X150: High Definition Webcasting
D151: High Definition Video Streaming | X151: Ultra high definition video streaming
D152: Greater social media application speed | X152: Ultra large file sharing
D153: Large file sharing
D155: Associated Speeds (facility dependent) | X155: Associated Speeds (facility dependent)
D156: Download - approx. 15 mbit/s | X156: Download - approx. 25 mbit/s
D157: Upload - approx. 15 mbit/s | X157: Upload - approx. 25 mbit/s
...

Sheet Formule
C3: Nombres de jour
C4: Date de début | D4: =Formulaire!AB11 -> 0
C5: Date de Fin | D5: =Formulaire!AB12 -> 0
C6: Formule = | D6: =+IF(D5-D4>=3,3,IF(D5-D4<=0,1,(D5-D4) +1) ) -> 1
G8: QUANTITÉ | K8: ÉQUIPEMENTS DISPONIBLE | AF8: TAUX ÉVÉNEMENT | AK8: Avec +-25% d'escompte | AP8: NOMBRE DE JOUR | AU8: TOTAL | AY8: Main-d'Oeuvre | BC8: Total MO | BG8: Frais LX | BK8: Total LX
G9: AFFICHAGE ÉCRAN PLAT (support / tablette en sus)
G10: =Formulaire!C21 -> 0 | K10: 22" MONITEUR ACL | AF10: 95 | AK10: 75 | AP10: x | AQ10: =Formule!$D$6 -> 1 | AT10: = | AU10: =+IF(G10="","",+G10*AF10*AQ10) -> 0 | AY10: 72 | BC10: =G10*AY10 -> 0 | BG10: 0 | BK10: =SUM(G10*BG10) -> 0
G11: =Formulaire!C22 -> 0 | K11: 24" MONITEUR ACL | AF11: 95 | AK11: 75 | AP11: x | AQ11: =Formule!$D$6 -> 1 | AT11: = | AU11: =+IF(G11="","",+G11*AF11*AQ11) -> 0 | AY11: 72 | BC11: =G11*AY11 -> 0 | BG11: 0 | BK11: =SUM(G11*BG11) -> 0
G12: =Formulaire!C23 -> 0 | K12: 32" MONITEUR ACL | AF12: 206 | AK12: 155 | AP12: x | AQ12: =Formule!$D$6 -> 1 | AT12: = | AU12: =+IF(G12="","",+G12*AF12*AQ12) -> 0 | AY12: 144 | BC12: =G12*AY12 -> 0 | BG12: 0 | BK12: =SUM(G12*BG12) -> 0
G13: =Formulaire!C24 -> 0 | K13: 43" MONITEUR LED (multimédia USB possible) | AF13: 360 | AK13: 270 | AP13: x | AQ13: =Formule!$D$6 -> 1 | AT13: = | AU13: =+IF(G13="","",+G13*AF13*AQ13) -> 0 | AY13: 144 | BC13: =G13*AY13 -> 0 | BG13: 0 | BK13: =SUM(G13*BG13) -> 0
G14: =Formulaire!C25 -> 0 | K14: 52" MONITEUR ACL (multimédia USB possible) | AF14: 464 | AK14: 350 | AP14: x | AQ14: =Formule!$D$6 -> 1 | AT14: = | AU14: =+IF(G14="","",+G14*AF14*AQ14) -> 0 | AY14: 144 | BC14: =G14*AY14 -> 0 | BG14: 0 | BK14: =SUM(G14*BG14) -> 0
G15: =Formulaire!C26 -> 0 | K15: 55" LCD FLAT SCREEN MONITOR (USB capability) | AF15: 566 | AK15: 425 | AP15: x | AQ15: =Formule!$D$6 -> 1 | AT15: = | AU15: =+IF(G15="","",+G15*AF15*AQ15) -> 0 | AY15: 144 | BC15: =G15*AY15 -> 0 | BG15: 0 | BK15: =SUM(G15*BG15) -> 0
G16: =Formulaire!C28 -> 0 | K16: 60" MONITEUR ACL (multimédia USB possible) | AF16: 618 | AK16: 465 | AP16: x | AQ16: =Formule!$D$6 -> 1 | AT16: = | AU16: =+IF(G16="","",+G16*AF16*AQ16) -> 0 | AY16: 144 | BC16: =G16*AY16 -> 0 | BG16: 0 | BK16: =SUM(G16*BG16) -> 0
G17: =Formulaire!C29 -> 0 | K17: 65" MONITEUR LED (multimédia USB possible) | AF17: 670 | AK17: 505 | AP17: x | AQ17: =Formule!$D$6 -> 1 | AT17: = | AU17: =+IF(G17="","",+G17*AF17*AQ17) -> 0 | AY17: 144 | BC17: =G17*AY17 -> 0 | BG17: 0 | BK17: =SUM(G17*BG17) -> 0
G18: =Formulaire!C30 -> 0 | K18: 70" MONITEUR ACL (multimédia USB possible) | AF18: 721 | AK18: 540 | AP18: x | AQ18: =Formule!$D$6 -> 1 | AT18: = | AU18: =+IF(G18="","",+G18*AF18*AQ18) -> 0 | AY18: 144 | BC18: =G18*AY18 -> 0 | BG18: 0 | BK18: =SUM(G18*BG18) -> 0
G19: =Formulaire!C31 -> 0 | K19: 86" MONITEUR LED TACTILE (multimédia USB possible) | AF19: 1030 | AK19: 775 | AP19: x | AQ19: =Formule!$D$6 -> 1 | AT19: = | AU19: =+IF(G19="","",+G19*AF19*AQ19) -> 0 | AY19: 144 | BC19: =G19*AY19 -> 0 | BG19: 0 | BK19: =SUM(G19*BG19) -> 0
G20: =Formulaire!C32 -> 0 | K20: LED DISPLAY ROLL UP | AF20: 670 | AK20: 670 | AP20: x | AQ20: =Formule!$D$6 -> 1 | AT20: = | AU20: =+IF(G20="","",+G20*AF20*AQ20) -> 0 | AY20: 110 | BC20: =G20*AY20 -> 0
G21: =Formulaire!C33 -> 0 | K21: SUPPORT DE PLANCHER 1 | AF21: 55 | AK21: 45 | AP21: x | AQ21: =Formule!$D$6 -> 1 | AT21: = | AU21: =+IF(G21="","",+G21*AF21*AQ21) -> 0 | AY21: 0 | BC21: =G21*AY21 -> 0 | BG21: 0 | BK21: =SUM(G21*BG21) -> 0
G22: =Formulaire!C34 -> 0 | K22: TABLETTE POUR SUPPORT DE PLANCHER 1 | AF22: 15 | AK22: 15 | AP22: x | AQ22: =Formule!$D$6 -> 1 | AT22: = | AU22: =+IF(G22="","",+G22*AF22*AQ22) -> 0 | AY22: 0 | BC22: =G22*AY22 -> 0 | BG22: 0 | BK22: =SUM(G22*BG22) -> 0
G23: ORDINATEURS ET ACCESSOIRES INFORMATIQUES
G24: =Formulaire!C36 -> 0 | K24: ORDINATEUR PORTABLE (suite office 2013 inclut) | AF24: 288 | AK24: 215 | AP24: x | AQ24: =Formule!$D$6 -> 1 | AT24: = | AU24: =+IF(G24="","",+G24*AF24*AQ24) -> 0 | AY24: 72 | BC24: =G24*AY24 -> 0 | BG24: 0 | BK24: =SUM(G24*BG24) -> 0
G25: =Formulaire!#REF! -> #REF! | K25: LECTEUR MULTIMÉDIA NUMÉRIQUE | AF25: 129 | AK25: 125 | AP25: x | AQ25: =Formule!$D$6 -> 1 | AT25: = | AU25: =+IF(G25="","",+G25*AF25*AQ25) -> #REF! | AY25: 72 | BC25: =G25*AY25 -> #REF! | BG25: 0 | BK25: =SUM(G25*BG25) -> #REF!
G26: =Formulaire!#REF! -> #REF! | K26: I-PAD | AF26: 225 | AK26: 225 | AP26: x | AQ26: =Formule!$D$6 -> 1 | AT26: = | AU26: =+IF(G26="","",+G26*AF26*AQ26) -> #REF! | AY26: 72 | BC26: =G26*AY26 -> #REF! | BG26: 0 | BK26: =SUM(G26*BG26) -> #REF!
G27: =Formulaire!#REF! -> #REF! | K27: ENSEMBLE DE PRESENTATEUR IPAD SANS-FIL (Appel TV) | AF27: 95 | AK27: 70 | AP27: x | AQ27: =Formule!$D$6 -> 1 | AT27: = | AU27: =+IF(G27="","",+G27*AF27*AQ27) -> #REF! | AY27: 72 | BC27: =G27*AY27 -> #REF! | BG27: 0 | BK27: =SUM(G27*BG27) -> #REF!
G28: =Formulaire!#REF! -> #REF! | K28: IMPRIMANTE LASER - MONOCOULEUR, 15PPM | AF28: 154 | AK28: 115 | AP28: x | AQ28: =Formule!$D$6 -> 1 | AT28: = | AU28: =+IF(G28="","",+G28*AF28*AQ28) -> #REF! | AY28: 72 | BC28: =G28*AY28 -> #REF! | BG28: 0 | BK28: =SUM(G28*BG28) -> #REF!
G29: =Formulaire!#REF! -> #REF! | K29: IMPRIMANTE LASER COULEUR | AF29: 309 | AK29: 230 | AP29: x | AQ29: =Formule!$D$6 -> 1 | AT29: = | AU29: =+IF(G29="","",+G29*AF29*AQ29) -> #REF! | AY29: 72 | BC29: =G29*AY29 -> #REF! | BG29: 0 | BK29: =SUM(G29*BG29) -> #REF!
G30: SYSTÈME DE SON
G31: =Formulaire!#REF! -> #REF! | K31: KIT DE BASE 1 (1 colonne de son avec caisse pour les graves + 1 micro) | AF31: 117 | AK31: 90 | AP31: x | AQ31: =Formule!$D$6 -> 1 | AT31: = | AU31: =+IF(G31="","",+G31*AF31*AQ31) -> #REF! | AY31: 72 | BC31: =G31*AY31 -> #REF! | BG31: 0 | BK31: =SUM(G31*BG31) -> #REF!
G32: =Formulaire!#REF! -> #REF! | K32: KIT DE BASE 2 (1 colonne de son avec caisse pour les graves + 1 micro sans-fil) | AF32: 234 | AK32: 175 | AP32: x | AQ32: =Formule!$D$6 -> 1 | AT32: = | AU32: =+IF(G32="","",+G32*AF32*AQ32) -> #REF! | AY32: 72 | BC32: =G32*AY32 -> #REF! | BG32: 0 | BK32: =SUM(G32*BG32) -> #REF!
G33: ECLAIRAGE
G34: =Formulaire!#REF! -> #REF! | K34: ENSEMBLE ECLAIRAGE STAND 10' X 10' SUSPENDU (1 leko 575 watt + gradateur) | AF34: 115 | AK34: 80 | AP34: x | AQ34: =Formule!$D$6 -> 1 | AT34: = | AU34: =+IF(G34="","",+G34*AF34*AQ34) -> #REF! | AY34: 144 | BC34: =G34*AY34 -> #REF! | BG34: 150 | BK34: =SUM(G34*BG34) -> #REF!
G35: =Formulaire!#REF! -> #REF! | K35: ENSEMBLE ECLAIRAGE LED AU SOL (4 par LED + console) | AF35: 314 | AK35: 235 | AP35: x | AQ35: =Formule!$D$6 -> 1 | AT35: = | AU35: =+IF(G35="","",+G35*AF35*AQ35) -> #REF! | AY35: 110 | BC35: =G35*AY35 -> #REF! | BG35: 0 | BK35: =SUM(G35*BG35) -> #REF!
G36: CÂBLAGE SUPPLÉMENTAIRE
G37: =Formulaire!C37 -> 0 | K37: ADAPTATEUR CÂBLE | AF37: 25 | AK37: 25 | AP37: x | AQ37: 1 | AT37: = | AU37: =+IF(G37="","",+G37*AF37*AQ37) -> 0 | AY37: 0 | BC37: =G37*AY37 -> 0 | BG37: 0 | BK37: =SUM(G37*BG37) -> 0
G38: =Formulaire!#REF! -> #REF! | K38: CÂBLE VGA | AF38: 25 | AK38: 25 | AP38: x | AQ38: 1 | AT38: = | AU38: =+IF(G38="","",+G38*AF38*AQ38) -> #REF! | AY38: 0 | BC38: =G38*AY38 -> #REF! | BG38: 0 | BK38: =SUM(G38*BG38) -> #REF!
G39: =Formulaire!C38 -> 0 | K39: CÂBLE HDMI | AF39: 25 | AK39: 25 | AP39: x | AQ39: 1 | AT39: = | AU39: =+IF(G39="","",+G39*AF39*AQ39) -> 0 | AY39: 0 | BC39: =G39*AY39 -> 0 | BG39: 0 | BK39: =SUM(G39*BG39) -> 0
G40: =Formulaire!C39 -> 0 | K40: CÂBLE DVI | AF40: 25 | AK40: 25 | AP40: x | AQ40: 1 | AT40: = | AU40: =+IF(G40="","",+G40*AF40*AQ40) -> 0 | AY40: 0 | BC40: =G40*AY40 -> 0 | BG40: 0 | BK40: =SUM(G40*BG40) -> 0
AP41: C&C | AT41: = | AU41: =SUM(AU10:AX22,AU24:AX29,AU31:AX32,AU34:AX35)*0.095 -> #REF! | AY41: Resultat | BC41: =SUM(BC10:BF22,BC24:BF29,BC31:BF32,BC34:BF35,BC37:BF40) -> #REF! | BG41: Resultat | BK41: =SUM(BK10:BN22,BK24:BN29,BK31:BN32,BK34:BN35,BK37:BN40) -> #REF!
